BEGIN:VCALENDAR
VERSION:2.0
PRODID:-//wp-events-plugin.com//7.2.3.1//EN
TZID:Europe/Berlin
X-WR-TIMEZONE:Europe/Berlin
BEGIN:VEVENT
UID:660@soeren-schumacher.de
DTSTART;TZID=Europe/Berlin:20241223T100000
DTEND;TZID=Europe/Berlin:20241223T120000
DTSTAMP:20241211T105022Z
URL:https://soeren-schumacher.de/events/buergergespraeche-mit-hakverdi-sch
 umacher-2/
SUMMARY:Bürgergespräche mit Hakverdi & Schumacher
DESCRIPTION:Der Bundestagsabgeordnete Metin Hakverdi und der Bürgerschafts
 abgeordnete Sören Schumacher stehen am Montag\, 23. Dezember um 10 Uhr im
  Einkaufszentrum Marmstorf am Infostand.
ATTACH;FMTTYPE=image/jpeg:https://soeren-schumacher.de/wp-content/uploads/
 2024/11/20241223_Plakat_Hakverdi_Schumacher.png
CATEGORIES:Harburg,Marmstorf,Wahlkreis Harburg
END:VEVENT
BEGIN:VTIMEZONE
TZID:Europe/Berlin
X-LIC-LOCATION:Europe/Berlin
BEGIN:STANDARD
DTSTART:20241027T020000
TZOFFSETFROM:+0200
TZOFFSETTO:+0100
TZNAME:CET
END:STANDARD
END:VTIMEZONE
END:VCALENDAR