BEGIN:VCALENDAR
VERSION:2.0
PRODID:-//wp-events-plugin.com//7.2.3.1//EN
TZID:Europe/Berlin
X-WR-TIMEZONE:Europe/Berlin
BEGIN:VEVENT
UID:658@soeren-schumacher.de
DTSTART;TZID=Europe/Berlin:20241209T100000
DTEND;TZID=Europe/Berlin:20241209T120000
DTSTAMP:20241129T123245Z
URL:https://soeren-schumacher.de/events/buergergespraeche-mit-hakverdi-sch
 umacher/
SUMMARY:Bürgergespräche mit Hakverdi & Schumacher
DESCRIPTION:Es stehen zwei wichtige Wahlen für die Hamburgerinnen und Hamb
 urger an: Die Bundestagswahl am 23. Februar 2025 und die Bürgerschaftswah
 l am 2. März 2025. Um sich den Wählerinnen und Wählern vorzustellen\, l
 aden die beiden SPD-Kandidaten zu einem Bürgergespräch am 9. Dezember 20
 24 um 10 Uhr ins Einkaufszentrum Marmstorf ein. Am Infostand gibt es auch 
 Informationen zum Hamburger Wahlprogramm der SPD. Über Ihre Anregungen un
 d Fragen freuen sich die Abgeordneten.
ATTACH;FMTTYPE=image/jpeg:https://soeren-schumacher.de/wp-content/uploads/
 2024/11/2024-12-09-Buergergespraeche-Hakverdi-und-Schumacher.jpg
CATEGORIES:Harburg,Marmstorf,Wahlkreis Harburg
END:VEVENT
BEGIN:VTIMEZONE
TZID:Europe/Berlin
X-LIC-LOCATION:Europe/Berlin
BEGIN:STANDARD
DTSTART:20241027T020000
TZOFFSETFROM:+0200
TZOFFSETTO:+0100
TZNAME:CET
END:STANDARD
END:VTIMEZONE
END:VCALENDAR