BEGIN:VCALENDAR
VERSION:2.0
PRODID:-//wp-events-plugin.com//7.2.3.1//EN
TZID:Europe/Berlin
X-WR-TIMEZONE:Europe/Berlin
BEGIN:VEVENT
UID:513@soeren-schumacher.de
DTSTART;TZID=Europe/Berlin:20160421T190000
DTEND;TZID=Europe/Berlin:20160421T200000
DTSTAMP:20160412T113646Z
URL:https://soeren-schumacher.de/events/der-rote-sessel-im-april-mit-wolfg
 ang-rose-und-andreas-goehring/
SUMMARY:Der rote Sessel im April mit Wolfgang Rose und Andreas Göhring
DESCRIPTION:Regelmäßige Besucher der Veranstaltung "Der rote Sessel" der 
 SPD Harburg haben sich womöglich den dritten Mittwoch im April bereits ro
 t im Kalender angestrichen. Denn zumeist  wird das rote Möbel für den o
 der die Vorleser am dritten Mittwoch eines Monats aufgestellt. Da es aber 
 keine Regel ohne Ausnahme gibt und es zudem für niemanden erstrebenswert 
 ist\, in Routine zu erstarren\, verhält es sich im April anders. Die Vera
 nstaltung findet an einem Donnerstag statt.\n\nVorlesen wird ein Männerdu
 o bestehend aus dem SPD-Bürgerschaftsabgeordneten und langjährigen Lande
 sbezirksleiter der Gewerkschaft ver.di in Hamburg Wolfgang Rose und dem Ha
 rburger Journalisten Andreas Göhring. Beide sind öffentlich und politisc
 h engagiert. Dies wird sich sicherlich in ihrer Lektüreauswahl niederschl
 agen.\n\nDie Veranstaltung findet am Donnerstag dem 21. April im Herbert-W
 ehner-Haus der SPD Harburg in der Julius-Ludowieg-Straße 9 statt. Sie beg
 innt um 19:00 Uhr. Der Eintritt ist frei.
CATEGORIES:SPD Harburg
LOCATION:Herbert-Wehner-Haus\, Julius-Ludowieg-Straße 9\, Hamburg\, 21073\
 , Deutschland
GEO:53.4597809;9.978726700000038
X-APPLE-STRUCTURED-LOCATION;VALUE=URI;X-ADDRESS=Julius-Ludowieg-Straße 9\,
  Hamburg\, 21073\, Deutschland;X-APPLE-RADIUS=100;X-TITLE=Herbert-Wehner-H
 aus:geo:53.4597809,9.978726700000038
END:VEVENT
BEGIN:VTIMEZONE
TZID:Europe/Berlin
X-LIC-LOCATION:Europe/Berlin
BEGIN:DAYLIGHT
DTSTART:20160327T030000
TZOFFSETFROM:+0100
TZOFFSETTO:+0200
TZNAME:CEST
END:DAYLIGHT
END:VTIMEZONE
END:VCALENDAR