BEGIN:VCALENDAR
VERSION:2.0
PRODID:-//wp-events-plugin.com//7.2.3.1//EN
TZID:Europe/Berlin
X-WR-TIMEZONE:Europe/Berlin
BEGIN:VEVENT
UID:617@soeren-schumacher.de
DTSTART;TZID=Europe/Berlin:20170914T190000
DTEND;TZID=Europe/Berlin:20170914T200000
DTSTAMP:20170907T150246Z
URL:https://soeren-schumacher.de/events/der-rote-sessel-im-september/
SUMMARY:Der Rote Sessel im September
DESCRIPTION:Die Tage werden kürzer\, die Abende länger. In Supermärkten 
 und Kaufhäusern lockt der Duft von Spekulatius\, Kräuterprinten und Chri
 ststollen. In Kürze wird auch dem Letzten klar sein: Es weihnachtet sehr.
  Dann ist die Zeit angekommen\, in der dem man gerne in gemütlicher Runde
  sitzt und etwas vorliest oder sich etwas vorlesen lässt.\nWas für ein Q
 uark! Wie eine Schwalbe noch keinen Sommer macht\, so macht Weihnachtsgeb
 äck noch keine Adventszeit. Und wer Freude am Vorlesen hat\, der braucht 
 dazu weder lange Abende noch weihnachtliches Ambiente. Das stellen die Har
 burger Sozialdemokraten seit Jahren mit ihrer Veranstaltungsreihe „Der r
 ote Sessel“ unter Beweis\, in deren Rahmen Monat für Monat Prominente o
 der weniger Prominente aus Büchern ihrer Wahl vorlesen. Die Veranstaltung
 en sind stets gut besucht und inzwischen aus Harburg nicht mehr wegzudenke
 n.\nAm Donnerstag\, dem 14. September\, ist es wieder soweit. Als Vorleser
  wird der Eimsbüttler Bürgerschaftsabgeordnete Uwe Giffei auf dem bekann
 ten roten Möbel Platz nehmen. Die Veranstaltung findet im Herbert-Wehner-
 Haus der SPD Harburg in der Julius-Ludowieg-Straße 9. Beginn ist 19 Uhr\,
  der Eintritt ist frei.
CATEGORIES:Harburg,SPD Harburg
LOCATION:Herbert-Wehner-Haus\, Julius-Ludowieg-Straße 9\, Hamburg\, 21073\
 , Deutschland
GEO:53.4597809;9.978726700000038
X-APPLE-STRUCTURED-LOCATION;VALUE=URI;X-ADDRESS=Julius-Ludowieg-Straße 9\,
  Hamburg\, 21073\, Deutschland;X-APPLE-RADIUS=100;X-TITLE=Herbert-Wehner-H
 aus:geo:53.4597809,9.978726700000038
END:VEVENT
BEGIN:VTIMEZONE
TZID:Europe/Berlin
X-LIC-LOCATION:Europe/Berlin
BEGIN:DAYLIGHT
DTSTART:20170326T030000
TZOFFSETFROM:+0100
TZOFFSETTO:+0200
TZNAME:CEST
END:DAYLIGHT
END:VTIMEZONE
END:VCALENDAR