BEGIN:VCALENDAR
VERSION:2.0
PRODID:-//wp-events-plugin.com//7.2.3.1//EN
TZID:Europe/Berlin
X-WR-TIMEZONE:Europe/Berlin
BEGIN:VEVENT
UID:676@soeren-schumacher.de
DTSTART;TZID=Europe/Berlin:20260422T180000
DTEND;TZID=Europe/Berlin:20260422T193000
DTSTAMP:20260420T112359Z
URL:https://soeren-schumacher.de/events/hamburg-und-olympia-peter-tschents
 cher-vor-ort-in-harburg/
SUMMARY:Hamburg und Olympia: Peter Tschentscher vor Ort in Harburg
DESCRIPTION:Informationsveranstaltung zu Hamburgs Bewerbung um die Olympisc
 hen und Paralympischen Spiele mit dem Ersten Bürgermeister Peter Tschents
 cher und der Paralympionikin Sylvia Pille-Steppat\n\n22.04.2026 | 18:00 
 – 19:30 | Planet Harburg\, Herbert-und-Greta-Wehner-Platz\, 21073 Hambur
 g
ATTACH;FMTTYPE=image/jpeg:https://soeren-schumacher.de/wp-content/uploads/
 2026/04/2026-04-22-Peter-Tschentscher-in-Harburg.png
CATEGORIES:Harburg,SPD Hamburg,SPD Harburg,Sport,Wahlkreis Harburg
LOCATION:Planet Harburg\, Herbert-und-Greta-Wehner-Platz\, Hamburg\, 21073\
 , Deutschland
X-APPLE-STRUCTURED-LOCATION;VALUE=URI;X-ADDRESS=Herbert-und-Greta-Wehner-Pl
 atz\, Hamburg\, 21073\, Deutschland;X-APPLE-RADIUS=100;X-TITLE=Planet Harb
 urg:geo:0,0
END:VEVENT
BEGIN:VTIMEZONE
TZID:Europe/Berlin
X-LIC-LOCATION:Europe/Berlin
BEGIN:DAYLIGHT
DTSTART:20260329T030000
TZOFFSETFROM:+0100
TZOFFSETTO:+0200
TZNAME:CEST
END:DAYLIGHT
END:VTIMEZONE
END:VCALENDAR