BEGIN:VCALENDAR
VERSION:2.0
PRODID:-//wp-events-plugin.com//7.2.3.1//EN
TZID:Europe/Berlin
X-WR-TIMEZONE:Europe/Berlin
BEGIN:VEVENT
UID:678@soeren-schumacher.de
DTSTART;TZID=Europe/Berlin:20260428T190000
DTEND;TZID=Europe/Berlin:20260428T210000
DTSTAMP:20260420T112847Z
URL:https://soeren-schumacher.de/events/harburger-gespraech/
SUMMARY:Harburger Gespräch
DESCRIPTION:Die internationale Ordnung befindet sich in einem tiefgreifende
 n Wandel: Neue Machtzentren entstehen\, geopolitische Rivalitäten versch
 ärfen sich\, und internationale Politik wird zunehmend durch strategische
  Interessen und globale Einflusskämpfe geprägt. Doch was bedeuten diese 
 Entwicklungen konkret für uns? Erleben wir gar eine Renaissance imperiale
 r Machtpolitik?\nDiesen Fragen widmen sich die nächsten Harburger Gesprä
 che am:\n\nDienstag\, 28. April 2026\, um 19:00 Uhr\nPHNX Aparthotel Hambu
 rg\nHannoversche Str. 88a\n21079 Hamburg\n\nUnter dem Titel\n„Weltpoliti
 k im Umbruch – und was bedeutet das für uns?“\ndiskutieren hochkarät
 ige Gäste aus Politik\, Wissenschaft und sicherheitspolitischer Praxis ü
 ber die aktuellen globalen Machtverschiebungen und ihre Auswirkungen auf D
 eutschland und Europa.\nAuf dem Podium begrüßen wir:\n\nMetin Hakverdi\,
  Transatlantikkoordinator der Bundesregierung\nZiad Al-Asmar\, Generalstab
 soffizier und Mitarbeiter der Stiftung Wissenschaft und Politik\nProf. Urs
 ula Schröder\, Institut für Friedensforschung und Sicherheitspolitik\nDi
 e Moderation übernimmt Holger Lange\, Staatsrat a.D.\n???????\nDie Harbur
 ger Gespräche verstehen sich als offenes Forum für politische Debatte un
 d bringen regelmäßig Vertreterinnen und Vertreter aus Politik\, Wissensc
 haft und Gesellschaft zusammen\, um komplexe außen- und sicherheitspoliti
 sche Entwicklungen verständlich zu machen und gemeinsam zu diskutieren.\n
 Der Eintritt ist frei.\n\nUm Anmeldung wird gebeten unter: harburger-gespr
 aeche@spd-hamburg.de\nWir freuen uns über zahlreiche Teilnahme und auf ei
 ne spannende Diskussion mit interessierten Bürgerinnen und Bürgern.
ATTACH;FMTTYPE=image/jpeg:https://soeren-schumacher.de/wp-content/uploads/
 2026/04/2026-04-28-Harburger-Gespraech.jpg
CATEGORIES:Hamburg,Harburg,SPD Harburg,Wahlkreis Harburg
LOCATION:PHNX Aparthotel\, Hannoversche Str. 88a\, Hamburg\, 21709\, Deutsc
 hland
X-APPLE-STRUCTURED-LOCATION;VALUE=URI;X-ADDRESS=Hannoversche Str. 88a\, Ham
 burg\, 21709\, Deutschland;X-APPLE-RADIUS=100;X-TITLE=PHNX Aparthotel:geo:
 0,0
END:VEVENT
BEGIN:VTIMEZONE
TZID:Europe/Berlin
X-LIC-LOCATION:Europe/Berlin
BEGIN:DAYLIGHT
DTSTART:20260329T030000
TZOFFSETFROM:+0100
TZOFFSETTO:+0200
TZNAME:CEST
END:DAYLIGHT
END:VTIMEZONE
END:VCALENDAR