BEGIN:VCALENDAR
VERSION:2.0
PRODID:-//wp-events-plugin.com//7.2.3.1//EN
TZID:Europe/Berlin
X-WR-TIMEZONE:Europe/Berlin
BEGIN:VEVENT
UID:662@soeren-schumacher.de
DTSTART;TZID=Europe/Berlin:20250111T170000
DTEND;TZID=Europe/Berlin:20250111T183000
DTSTAMP:20250108T091726Z
URL:https://soeren-schumacher.de/events/mit-ihnen-im-gespraech/
SUMMARY:Mit Ihnen im Gespräch
DESCRIPTION:
ATTACH;FMTTYPE=image/jpeg:https://soeren-schumacher.de/wp-content/uploads/
 2025/01/2025-01-11-Lernen-sie-die-Kandidaten-kennen.png
CATEGORIES:Harburg,Wahlkreis Harburg
LOCATION:Herbert-Wehner-Haus\, Julius-Ludowieg-Straße 9\, Hamburg\, 21073\
 , Deutschland
GEO:53.4597809;9.978726700000038
X-APPLE-STRUCTURED-LOCATION;VALUE=URI;X-ADDRESS=Julius-Ludowieg-Straße 9\,
  Hamburg\, 21073\, Deutschland;X-APPLE-RADIUS=100;X-TITLE=Herbert-Wehner-H
 aus:geo:53.4597809,9.978726700000038
END:VEVENT
BEGIN:VTIMEZONE
TZID:Europe/Berlin
X-LIC-LOCATION:Europe/Berlin
BEGIN:STANDARD
DTSTART:20241027T020000
TZOFFSETFROM:+0200
TZOFFSETTO:+0100
TZNAME:CET
END:STANDARD
END:VTIMEZONE
END:VCALENDAR