BEGIN:VCALENDAR
VERSION:2.0
PRODID:-//wp-events-plugin.com//7.2.3.1//EN
TZID:Europe/Berlin
X-WR-TIMEZONE:Europe/Berlin
BEGIN:VEVENT
UID:679@soeren-schumacher.de
DTSTART;TZID=Europe/Berlin:20260430T180000
DTEND;TZID=Europe/Berlin:20260430T220000
DTSTAMP:20260423T122100Z
URL:https://soeren-schumacher.de/events/nacht-der-konsulate-in-hamburg/
SUMMARY:Nacht der Konsulate in Hamburg
DESCRIPTION:\n\nAm 30. April öffnet Hamburg wieder seine Türen zur Langen
  Nacht der Konsulate! Während andere in den Mai tanzen\, laden dich über
  30 Länder dazu ein\, hinter die Kulissen der Diplomatie zu blicken und i
 nternationale Kultur hautnah zu erleben.\n\n \n\nHier ist dein Fahrplan f
 ür einen unvergesslichen Abend:\n\n \n\nWas dich erwartet:\n\n \n\nExklus
 ive Einblicke: Besuche prachtvolle Villen und moderne Kosluatssitze.\nKult
 ur Pur: Von Live-Musik und traditionellen Tänzen bis hin zu Kunstausstell
 ungen aus aller Welt.\nKulinarik: Probier dich durch internationale Spezia
 litäten – ein echter Kurzurlaub für deine Geschmacksknospen!\n\n \n\nN
 etworking: Triff Konsuln und Menschen aus den verschiedensten Nationen dir
 ekt vor Ort.\n\n \n\nDie Hard-Facts:\nWann? Mittwoch\, 30. April 2026\nUhr
 zeit: Meistens von 18:00 bis ca. 22:00 Uhr\nEintritt? Kostenlos!\nWo? Quer
  durch ganz Hamburg – von den Elbvororten bis an die Alster.\n\n \n\nPro
 -Tipp: Such dir vorher deine 3-4 Favoriten raus und plane deine Route mit 
 den Öffis. Hamburg hat die höchste Konsulatsdichte in Europa (nach New Y
 ork!) – nutz diese Chance!\n\n \n\nWeitere Infos: https://infopoint-euro
 pa.de/de/eventseries/19\n\n
ATTACH;FMTTYPE=image/jpeg:https://soeren-schumacher.de/wp-content/uploads/
 2026/04/2026-04-23-Nacht-der-Konsulate-Ankuendigung.jpg
CATEGORIES:Hamburg
END:VEVENT
BEGIN:VTIMEZONE
TZID:Europe/Berlin
X-LIC-LOCATION:Europe/Berlin
BEGIN:DAYLIGHT
DTSTART:20260329T030000
TZOFFSETFROM:+0100
TZOFFSETTO:+0200
TZNAME:CEST
END:DAYLIGHT
END:VTIMEZONE
END:VCALENDAR