BEGIN:VCALENDAR
VERSION:2.0
PRODID:-//wp-events-plugin.com//7.2.3.1//EN
TZID:Europe/Berlin
X-WR-TIMEZONE:Europe/Berlin
BEGIN:VEVENT
UID:677@soeren-schumacher.de
DTSTART;TZID=Europe/Berlin:20260423T180000
DTEND;TZID=Europe/Berlin:20260423T193000
DTSTAMP:20260420T112531Z
URL:https://soeren-schumacher.de/events/politik-pizza-loss-und-schumacher-
 laden-zum-lockeren-austausch-ein-3/
SUMMARY:Politik & Pizza: Loss und Schumacher laden zum lockeren Austausch e
 in
DESCRIPTION:Die beiden Harburger SPD-Bürgerschaftsabgeordneten Claudia Los
 s und Sören Schumacher laden wieder alle Harburgerinnen und Harburger her
 zlich ein: Bei „Politik &amp\; Pizza“ treffen sich Menschen\, die einf
 ach mal reden wollen – darüber\, was uns als Gesellschaft zusammenhält
 \, wie es Harburg geht\, was Zusammenhalt in Europa bedeutet oder was dran
  wäre an Olympischen Spielen in Hamburg. Und natürlich über alles ander
 e\, was gerade bewegt.\n\nOb Erstwählerinnen oder langjährige Politikint
 eressierte\, ob berufstätige Frauen mit wenig Zeit oder Menschen\, die sc
 hon immer einen Wunsch an die Politik hatten – hier ist jede und jeder w
 illkommen. Der Abend lebt vom ungezwungenen Miteinander: ein Stück Pizza\
 , eine offene Runde\, kein Podium\, keine Scheu.\n\nDer nächste Pizza-Abe
 nd findet statt am Donnerstag\, den 23. April 2026\, um 18 Uhr in der SPD-
 Zentrale im Herbert-Wehner-Haus in der Julius-Ludowieg-Straße 9\, 21073 H
 arburg.\n\nUm formlose Anmeldung unter info@soeren-schumacher.de bis zum 2
 2. April 2026 wird gebeten.
ATTACH;FMTTYPE=image/jpeg:https://soeren-schumacher.de/wp-content/uploads/
 2026/04/2026-04-23-Politik-und-Pizza.png
CATEGORIES:Harburg,SPD Bürgerschaftsfraktion Hamburg,SPD
 Harburg,Wahlkreis Harburg
LOCATION:Herbert-Wehner-Haus\, Julius-Ludowieg-Straße 9\, Hamburg\, 21073\
 , Deutschland
GEO:53.4597809;9.978726700000038
X-APPLE-STRUCTURED-LOCATION;VALUE=URI;X-ADDRESS=Julius-Ludowieg-Straße 9\,
  Hamburg\, 21073\, Deutschland;X-APPLE-RADIUS=100;X-TITLE=Herbert-Wehner-H
 aus:geo:53.4597809,9.978726700000038
END:VEVENT
BEGIN:VTIMEZONE
TZID:Europe/Berlin
X-LIC-LOCATION:Europe/Berlin
BEGIN:DAYLIGHT
DTSTART:20260329T030000
TZOFFSETFROM:+0100
TZOFFSETTO:+0200
TZNAME:CEST
END:DAYLIGHT
END:VTIMEZONE
END:VCALENDAR