BEGIN:VCALENDAR
VERSION:2.0
PRODID:-//wp-events-plugin.com//7.2.3.1//EN
TZID:Europe/Berlin
X-WR-TIMEZONE:Europe/Berlin
BEGIN:VEVENT
UID:659@soeren-schumacher.de
DTSTART;TZID=Europe/Berlin:20241217T120000
DTEND;TZID=Europe/Berlin:20241217T163000
DTSTAMP:20241126T111841Z
URL:https://soeren-schumacher.de/events/rathausbesuch-zur-haushaltsdebatte
 -mit-den-spd-buergerschaftsabgeordneten-loss-und-schumacher/
SUMMARY:Rathausbesuch zur Haushaltsdebatte mit den SPD-Bürgerschaftsabgeor
 dneten Loss und Schumacher
DESCRIPTION:Das Hamburger Rathaus hält viele Besonderheiten und spannende 
 Geschichten für Besucher bereit. Unter einem gemeinsamen Dach arbeiten hi
 er Hamburgs Parlament und Regierung – also Bürgerschaft und Senat – z
 usammen. Jedes Jahr nehmen 7.000 Besucherinnen und Besucher an einer Ratha
 usführung teil und erleben eine Sitzung der Hamburgischen Bürgerschaft.\
 n\nDie Harburger SPD-Bürgerschaftsabgeordneten Claudia Loss und Sören Sc
 humacher laden am 17. Dezember 2024 interessierte Bürgerinnen und Bürger
  zu einer Rathausführung ein. Der Rathausbesuch umfasst eine persönliche
  Führung durch das Rathaus mit den Bürgerschaftsabgeordneten Loss und Sc
 humacher. Im Anschluss erklärt ein Film die parlamentarische Arbeit in de
 r Bürgerschaft. Im persönlichen Gespräch mit den beiden Harburger SPD-A
 bgeordneten können dann auch Fragen gestellt werden. Einen weiteren Höhe
 punkt bildet die Sitzung der Hamburgischen Bürgerschaft\, dieses Mal wird
  der Haushalt debattiert. Die Teilnehmerinnen und Teilnehmer können so ei
 nen Blick hinter die Kulissen der politischen Arbeit ihrer Volksvertretung
  erlangen und die besondere Parlamentsatmosphäre erleben. Der Abend kann 
 dann auf dem Weihnachtsmarkt vor dem Rathaus fortgesetzt werden.\n\nFür d
 en Termin am 17. Dezember 2024 um 12 Uhr bis ca. 16:30 Uhr stehen noch fre
 ie Plätze zur Verfügung. Um eine verbindliche Anmeldung wird gebeten im 
 Abgeordnetenbüro von Sören Schumacher per E-Mail an info@soeren-schumach
 er.de oder telefonisch unter 040-33 98 44 33. Die Teilnahme ist kostenfrei
 .
ATTACH;FMTTYPE=image/jpeg:https://soeren-schumacher.de/wp-content/uploads/
 2024/11/2024-12-17-Besuch-der-Hamburgischen-Buergerschaft.png
CATEGORIES:Hamburgische Bürgerschaft,Harburg,Wahlkreis Harburg
LOCATION:Rathaus Hamburg\, Rathausmarkt 1\, Hamburg\, 20095\, Deutschland
GEO:53.5497212;9.992299300000013
X-APPLE-STRUCTURED-LOCATION;VALUE=URI;X-ADDRESS=Rathausmarkt 1\, Hamburg\, 
 20095\, Deutschland;X-APPLE-RADIUS=100;X-TITLE=Rathaus Hamburg:geo:53.5497
 212,9.992299300000013
END:VEVENT
BEGIN:VTIMEZONE
TZID:Europe/Berlin
X-LIC-LOCATION:Europe/Berlin
BEGIN:STANDARD
DTSTART:20241027T020000
TZOFFSETFROM:+0200
TZOFFSETTO:+0100
TZNAME:CET
END:STANDARD
END:VTIMEZONE
END:VCALENDAR