BEGIN:VCALENDAR
VERSION:2.0
PRODID:-//wp-events-plugin.com//7.2.3.1//EN
TZID:Europe/Berlin
X-WR-TIMEZONE:Europe/Berlin
BEGIN:VEVENT
UID:596@soeren-schumacher.de
DTSTART;TZID=Europe/Berlin:20170420T120000
DTEND;TZID=Europe/Berlin:20170420T140000
DTSTAMP:20170405T102544Z
URL:https://soeren-schumacher.de/events/senatsempfang-aus-anlass-der-verei
 digung-junger-polizeibeamtinnen-und-polizeibeamter-2/
SUMMARY:Senatsempfang aus Anlass der Vereidigung junger Polizeibeamtinnen u
 nd Polizeibeamter
DESCRIPTION:
CATEGORIES:Hamburg,Hamburgische Bürgerschaft
LOCATION:Rathaus Hamburg\, Rathausmarkt 1\, Hamburg\, 20095\, Deutschland
GEO:53.5497212;9.992299300000013
X-APPLE-STRUCTURED-LOCATION;VALUE=URI;X-ADDRESS=Rathausmarkt 1\, Hamburg\, 
 20095\, Deutschland;X-APPLE-RADIUS=100;X-TITLE=Rathaus Hamburg:geo:53.5497
 212,9.992299300000013
END:VEVENT
BEGIN:VTIMEZONE
TZID:Europe/Berlin
X-LIC-LOCATION:Europe/Berlin
BEGIN:DAYLIGHT
DTSTART:20170326T030000
TZOFFSETFROM:+0100
TZOFFSETTO:+0200
TZNAME:CEST
END:DAYLIGHT
END:VTIMEZONE
END:VCALENDAR