BEGIN:VCALENDAR
VERSION:2.0
PRODID:-//wp-events-plugin.com//7.2.3.1//EN
TZID:Europe/Berlin
X-WR-TIMEZONE:Europe/Berlin
BEGIN:VEVENT
UID:580@soeren-schumacher.de
DTSTART;TZID=Europe/Berlin:20170320T193000
DTEND;TZID=Europe/Berlin:20170320T210000
DTSTAMP:20170316T131101Z
URL:https://soeren-schumacher.de/events/vorstand-und-oeffentliche-mitglied
 erversammlung-der-spd-harburg-sued-marmstorf-10/
SUMMARY:Vorstand und öffentliche Mitgliederversammlung der SPD Harburg-Sü
 d (Marmstorf)
DESCRIPTION:Liebe Genossinnen\, liebe Genossen\,\ndas Wahlkampfjahr 2017 ha
 t begonnen. Mit der Nominierung von Martin Schulz als SPD Kanzlerkandidate
 n kommt für uns richtig Schwung in die Sache. Die Umfragewerte steigen un
 d Martin wird als echte Alternative zur derzeitigen Kanzlerin wahrgenommen
 . Diesen Schwung gilt es nun bis zur Wahl aufrechtzuerhalten – wir haben
  noch viele Monate vor uns!\n\nAm nächsten Montag (20. März) findet unse
 re nächste Versammlung in Marmstorf statt. Wir freuen uns zwei Gäste beg
 rüßen zu dürfen.\nZum einen wird uns die Eißendorfer Genossin Eva Simo
 n aus ihrem Leben berichten und aus ihr Tagebuch (Kindheits- und Jugenderi
 nnerungen 1938-1961) vorstellen.\nWeitere Informationen zu Eva findet ihr 
 hier: http://www.simonrose.de/\n\nZum anderen besucht uns der Harburger Be
 zirksamtsleiter Thomas Völsch (SPD). Er wird aus der aktuellen Bezirkspol
 itik\, den Zukunftsideen und Herausforderungen für Harburg berichten.\n\n
 Beide Gäste stehen uns für Fragen und Diskussion zur Verfügung.\n\nMit 
 freundlichen Grüßen\nSören Schumacher
CATEGORIES:SPD Harburg-Süd (Marmstorf)
END:VEVENT
BEGIN:VTIMEZONE
TZID:Europe/Berlin
X-LIC-LOCATION:Europe/Berlin
BEGIN:STANDARD
DTSTART:20161030T020000
TZOFFSETFROM:+0200
TZOFFSETTO:+0100
TZNAME:CET
END:STANDARD
END:VTIMEZONE
END:VCALENDAR