BEGIN:VCALENDAR
VERSION:2.0
PRODID:-//wp-events-plugin.com//7.2.3.1//EN
TZID:Europe/Berlin
X-WR-TIMEZONE:Europe/Berlin
BEGIN:VEVENT
UID:661@soeren-schumacher.de
DTSTART;TZID=Europe/Berlin;VALUE=DATE:20241231
DTEND;TZID=Europe/Berlin;VALUE=DATE:20250101
DTSTAMP:20241129T115752Z
URL:https://soeren-schumacher.de/events/werde-jugenddelegierter-2025-im-ko
 ngress-des-europarats-anmeldeschluss/
SUMMARY:Werde Jugenddelegierter 2025 im Kongress des Europarats! - Anmeldes
 chluss
DESCRIPTION:Als Teil der Initiative des Kongresses im Europarat namens “
 Rejuvenating Politics” werden jedes Jahr junge Menschen im Alter von 18
  bis 30 Jahren ausgewählt\, ihr Land im Kongress zu vertreten. Die Frist 
 für die Bewerbung läuft noch bis zum 31. Dezember 2024.\n\nSeit 2014 be
 reichern die Jugenddelegierten aus den 46 Mitgliedstaaten die Arbeit des
  Kongresses. Sie nehmen aktiv (aber ohne Stimmrecht) an der Arbeit des Kon
 gresses teil und gehören den nationalen Delegationen an. Sie können ihre
  Perspektiven einbringen\, ein Netzwerk bilden und eigene Erfahrungen samm
 eln. Während des Zeitraums setzt jede/r Jugenddelegierte/r ein Basisproje
 kt auf lokaler oder regionaler Ebene um. Dabei erhalten sie Unterstützung
  durch einen Trainer.\n\nDie Teilnahme an den zwei Sitzungen des Kongress
 es (22. bis 27. März 2025 und 25. bis 30. Oktober 2024) in Straßburg si
 nd daher auch verpflichtend. Die Kosten für Reise und Unterkunft trägt d
 er Kongress.\n\nDie Bewerbung muss zum Kongress der Gemeinden und Region
 en über eine online-Maske eingereicht werden. Die Auswahl erfolgt im Bli
 ck auf eine ausgewogene Vielfalt von Geschlecht\, kulturellem Hintergrund\
 , Alter und Erfahrung. Alle Kandidaten werden bis zum 9. Februar 2025 info
 rmiert.\n\nIch würde mich freuen\, wenn Ihr diese Möglichkeit in Euren N
 etzwerken bewerbt und geeignete Kandidatinnen und Kandidaten ansprecht.
ATTACH;FMTTYPE=image/jpeg:https://soeren-schumacher.de/wp-content/uploads/
 2024/11/2024-11-28-Auffruf-COE-Congress-Jugenddelegierter.jpg
END:VEVENT
BEGIN:VTIMEZONE
TZID:Europe/Berlin
X-LIC-LOCATION:Europe/Berlin
BEGIN:STANDARD
DTSTART:20241027T020000
TZOFFSETFROM:+0200
TZOFFSETTO:+0100
TZNAME:CET
END:STANDARD
END:VTIMEZONE
END:VCALENDAR