BEGIN:VCALENDAR
VERSION:2.0
PRODID:-//wp-events-plugin.com//7.2.3.1//EN
TZID:Europe/Berlin
X-WR-TIMEZONE:Europe/Berlin
BEGIN:VEVENT
UID:663@soeren-schumacher.de
DTSTART;TZID=Europe/Berlin:20250123T180000
DTEND;TZID=Europe/Berlin:20250123T193000
DTSTAMP:20250113T144800Z
URL:https://soeren-schumacher.de/events/wie-schuetzen-wir-unsere-demokrati
 e-im-gespraech-mit-andy-grote/
SUMMARY:Wie schützen wir unsere Demokratie? Im Gespräch mit Andy Grote.
DESCRIPTION:Demokratie unter Druck: Andy Grote zu Gast bei der SPD\n\nIn Ze
 iten zunehmenden Extremismus und einer drohenden Unterhöhlung der Demokra
 tie laden die Harburger SPD-Bürgerschaftskandidaten Sören Schumacher und
  Oksan Karakus\, zu einem öffentlichen Diskussionsabend mit Andy Grote am
  Dienstag\, den 23. Januar 2025 ins Herbert-Wehner-Haus ein.\n\nIm Fokus s
 teht die zentrale Frage nach der Widerstandsfähigkeit unserer demokratisc
 hen Institutionen und der freiheitlichen Gesellschaft. „Die Entwicklunge
 n der letzten Jahre zeigen deutlich: Unsere Demokratie ist keine Selbstver
 ständlichkeit“\, erklärt Sören Schumacher. „Wir müssen die aktuell
 en Bedrohungen durch Extremisten klar benennen und ihnen entschlossen entg
 egentreten.“ Der Abend soll nicht nur staatliche Handlungsoptionen disku
 tieren\, sondern auch Wege aufweisen\, wie sich jede und jeder von uns akt
 iv an der Verteidigung demokratischer Werte beteiligen kann.\n\nDas 75-jä
 hrige Jubiläum unseres Grundgesetzes im letzten Jahr unterstreicht die Be
 deutung unserer Demokratie. „Es ist ein Meilenstein\, der zeigt\, dass u
 nsere Verfassung robust ist\, aber auch\, dass wir sie kontinuierlich sch
 ützen und stärken müssen"\, betont Oksan Karakus.\n\nDiese hochaktuel
 len Fragestellungen werden in einem offenen Dialog mit den Anwesenden disk
 utiert. Dabei geht es sowohl um präventive Maßnahmen als auch um konkret
 e Handlungsstrategien zur Stärkung des demokratischen Zusammenhalts.\n\nA
 lle Interessierten sind herzlich eingeladen\, am 23. Januar 2025 um 18 Uhr
  an der Veranstaltung im Herbert-Wehner-Haus\, Julius-Ludowieg-Straße 9\,
  21073 Hamburg teilzunehmen.
ATTACH;FMTTYPE=image/jpeg:https://soeren-schumacher.de/wp-content/uploads/
 2025/01/2025-01-23-Wie-schuetzen-wir-unsere-Demokratie-mit-Andy-Grote.png
CATEGORIES:Harburg,Wahlkreis Harburg
LOCATION:Herbert-Wehner-Haus\, Julius-Ludowieg-Straße 9\, Hamburg\, 21073\
 , Deutschland
GEO:53.4597809;9.978726700000038
X-APPLE-STRUCTURED-LOCATION;VALUE=URI;X-ADDRESS=Julius-Ludowieg-Straße 9\,
  Hamburg\, 21073\, Deutschland;X-APPLE-RADIUS=100;X-TITLE=Herbert-Wehner-H
 aus:geo:53.4597809,9.978726700000038
END:VEVENT
BEGIN:VTIMEZONE
TZID:Europe/Berlin
X-LIC-LOCATION:Europe/Berlin
BEGIN:STANDARD
DTSTART:20241027T020000
TZOFFSETFROM:+0200
TZOFFSETTO:+0100
TZNAME:CET
END:STANDARD
END:VTIMEZONE
END:VCALENDAR